BEGIN:VCALENDAR
VERSION:2.0
PRODID:-//pretix//Fridays_for_Future_Stuttgart_Tickets//
BEGIN:VEVENT
UID:pretix-widersetzen-fr-erfurt-2026-0@bus.widersetzen-fr.de
DTSTART;VALUE=DATE:20260704
DTEND;VALUE=DATE:20260705
DESCRIPTION:Tickets: https://bus.widersetzen-fr.de/erfurt-2026/\nVeranstalt
 er: widersetzen Freiburg
DTSTAMP:20260421T082211Z
LOCATION:Erfurt\, Thüringen\, Deutschland
SUMMARY:widersetzen Freiburg
END:VEVENT
END:VCALENDAR
